BEGIN:VCALENDAR
PRODID:69e560ef30c81
VERSION:2.0
METHOD:PUBLISH
BEGIN:VEVENT
DTSTART:20250528T090000
LOCATION:
TRANSP:OPAQUE
SEQUENCE:0
UID:69e560ef30c81
DTSTAMP:20260419T231039Z
SUMMARY:SF srijeda Webinar #1:
DESCRIPTION:
PRIORITY:1
CLASS:PUBLIC
BEGIN:VALARM
TRIGGER:-PT10080M
ACTION:DISPLAY
DESCRIPTION:
END:VALARM
END:VEVENT
END:VCALENDAR
