BEGIN:VCALENDAR
PRODID:69e5af7e40e91
VERSION:2.0
METHOD:PUBLISH
BEGIN:VEVENT
DTSTART:20250604T090000
LOCATION:
TRANSP:OPAQUE
SEQUENCE:0
UID:69e5af7e40e91
DTSTAMP:20260420T044550Z
SUMMARY:SF srijeda Webinar #2:
DESCRIPTION:
PRIORITY:1
CLASS:PUBLIC
BEGIN:VALARM
TRIGGER:-PT10080M
ACTION:DISPLAY
DESCRIPTION:
END:VALARM
END:VEVENT
END:VCALENDAR
