BEGIN:VCALENDAR
PRODID:69e5af35c44d8
VERSION:2.0
METHOD:PUBLISH
BEGIN:VEVENT
DTSTART:20250611T090000
LOCATION:
TRANSP:OPAQUE
SEQUENCE:0
UID:69e5af35c44d8
DTSTAMP:20260420T044437Z
SUMMARY:SF srijeda Webinar #3
DESCRIPTION:
PRIORITY:1
CLASS:PUBLIC
BEGIN:VALARM
TRIGGER:-PT10080M
ACTION:DISPLAY
DESCRIPTION:
END:VALARM
END:VEVENT
END:VCALENDAR
