BEGIN:VCALENDAR
PRODID:69e5b0514b7c9
VERSION:2.0
METHOD:PUBLISH
BEGIN:VEVENT
DTSTART:20250618T090000
LOCATION:
TRANSP:OPAQUE
SEQUENCE:0
UID:69e5b0514b7c9
DTSTAMP:20260420T044921Z
SUMMARY:SF srijeda Webinar #4
DESCRIPTION:
PRIORITY:1
CLASS:PUBLIC
BEGIN:VALARM
TRIGGER:-PT10080M
ACTION:DISPLAY
DESCRIPTION:
END:VALARM
END:VEVENT
END:VCALENDAR
